BEGIN:VCALENDAR
VERSION:2.0
PRODID:-//Lucinda Nicholas Art - ECPv6.15.20//NONSGML v1.0//EN
CALSCALE:GREGORIAN
METHOD:PUBLISH
X-ORIGINAL-URL:https://lucindanicholas.co.uk
X-WR-CALDESC:Events for Lucinda Nicholas Art
REFRESH-INTERVAL;VALUE=DURATION:PT1H
X-Robots-Tag:noindex
X-PUBLISHED-TTL:PT1H
BEGIN:VTIMEZONE
TZID:Europe/London
BEGIN:DAYLIGHT
TZOFFSETFROM:+0000
TZOFFSETTO:+0100
TZNAME:BST
DTSTART:20220327T010000
END:DAYLIGHT
BEGIN:STANDARD
TZOFFSETFROM:+0100
TZOFFSETTO:+0000
TZNAME:GMT
DTSTART:20221030T010000
END:STANDARD
BEGIN:DAYLIGHT
TZOFFSETFROM:+0000
TZOFFSETTO:+0100
TZNAME:BST
DTSTART:20230326T010000
END:DAYLIGHT
BEGIN:STANDARD
TZOFFSETFROM:+0100
TZOFFSETTO:+0000
TZNAME:GMT
DTSTART:20231029T010000
END:STANDARD
BEGIN:DAYLIGHT
TZOFFSETFROM:+0000
TZOFFSETTO:+0100
TZNAME:BST
DTSTART:20240331T010000
END:DAYLIGHT
BEGIN:STANDARD
TZOFFSETFROM:+0100
TZOFFSETTO:+0000
TZNAME:GMT
DTSTART:20241027T010000
END:STANDARD
END:VTIMEZONE
BEGIN:VEVENT
DTSTART;VALUE=DATE:20230530
DTEND;VALUE=DATE:20230701
DTSTAMP:20260424T034556
CREATED:20230608T212537Z
LAST-MODIFIED:20230608T212537Z
UID:6918-1685404800-1688169599@lucindanicholas.co.uk
SUMMARY:Spring into Summer
DESCRIPTION:I have four pieces of art displayed here!
URL:https://lucindanicholas.co.uk/event/spring-into-summer/
LOCATION:Salisbury Library\, Market Walk\, Salisbury\, Wiltshire\, SP1 1BL\, United Kingdom
CATEGORIES:Exhibitions
ATTACH;FMTTYPE=image/jpeg:https://lucindanicholas.co.uk/wp-content/uploads/2023/06/Plain-Arts2.jpg
END:VEVENT
BEGIN:VEVENT
DTSTART;TZID=Europe/London:20230608T080000
DTEND;TZID=Europe/London:20230718T170000
DTSTAMP:20260424T034556
CREATED:20230608T173346Z
LAST-MODIFIED:20230608T173346Z
UID:6893-1686211200-1689699600@lucindanicholas.co.uk
SUMMARY:Time and Tides exhibition at Arundells
DESCRIPTION:An art exhibition from Salisbury Group Of Artists. \nAn exhibition by artists from Salisbury and the surrounding area in various medias. Vibrant and colourful pieces inspired by the elemental themes of ‘Time and Tides’. \nArundells is open Thursday to Monday for freeflow visits and on Tuesdays for guided tours. \nClosed on a Wednesday.\nFreeflow- explore at your leisure \n10am to 5pm (last entry 4pm)\n\nHouse & Garden | £9\nGarden Only | £3.50\nUnder 12’s | Free\nHistoric House Members | Free
URL:https://lucindanicholas.co.uk/event/time-and-tides-exhibition-at-arundells/
LOCATION:Arundells\, 59\, Cathedral Close\, Salisbury\, Wiltshire\, SP1 2EN\, United Kingdom
CATEGORIES:Exhibitions
ATTACH;FMTTYPE=image/jpeg:https://lucindanicholas.co.uk/wp-content/uploads/2023/06/Arundells.jpeg
END:VEVENT
BEGIN:VEVENT
DTSTART;TZID=Europe/London:20230608T100000
DTEND;TZID=Europe/London:20230731T170000
DTSTAMP:20260424T034556
CREATED:20230608T174141Z
LAST-MODIFIED:20230608T174141Z
UID:6899-1686218400-1690822800@lucindanicholas.co.uk
SUMMARY:About Town exhibition at The Antelope Café
DESCRIPTION:I have five pieces included in the About Town exhibition at The Antelope Cafe which runs until 31st July. \nThe café is open Monday – Saturday 10-5 (excluding Wednesdays)
URL:https://lucindanicholas.co.uk/event/about-town-exhibition-at-the-antelope-cafe/
LOCATION:The Antelope Café\, 37 Catherine Street\, Salisbury\, Wiltshire\, SP1 2DH\, United Kingdom
CATEGORIES:Exhibitions
ATTACH;FMTTYPE=image/jpeg:https://lucindanicholas.co.uk/wp-content/uploads/2023/06/Antelope-Cafe.jpg
END:VEVENT
END:VCALENDAR