BEGIN:VCALENDAR
VERSION:2.0
PRODID:-//Lucinda Nicholas Art - ECPv6.15.20//NONSGML v1.0//EN
CALSCALE:GREGORIAN
METHOD:PUBLISH
X-WR-CALNAME:Lucinda Nicholas Art
X-ORIGINAL-URL:https://lucindanicholas.co.uk
X-WR-CALDESC:Events for Lucinda Nicholas Art
REFRESH-INTERVAL;VALUE=DURATION:PT1H
X-Robots-Tag:noindex
X-PUBLISHED-TTL:PT1H
BEGIN:VTIMEZONE
TZID:Europe/London
BEGIN:DAYLIGHT
TZOFFSETFROM:+0000
TZOFFSETTO:+0100
TZNAME:BST
DTSTART:20220327T010000
END:DAYLIGHT
BEGIN:STANDARD
TZOFFSETFROM:+0100
TZOFFSETTO:+0000
TZNAME:GMT
DTSTART:20221030T010000
END:STANDARD
BEGIN:DAYLIGHT
TZOFFSETFROM:+0000
TZOFFSETTO:+0100
TZNAME:BST
DTSTART:20230326T010000
END:DAYLIGHT
BEGIN:STANDARD
TZOFFSETFROM:+0100
TZOFFSETTO:+0000
TZNAME:GMT
DTSTART:20231029T010000
END:STANDARD
BEGIN:DAYLIGHT
TZOFFSETFROM:+0000
TZOFFSETTO:+0100
TZNAME:BST
DTSTART:20240331T010000
END:DAYLIGHT
BEGIN:STANDARD
TZOFFSETFROM:+0100
TZOFFSETTO:+0000
TZNAME:GMT
DTSTART:20241027T010000
END:STANDARD
END:VTIMEZONE
BEGIN:VEVENT
DTSTART;TZID=Europe/London:20230729T100000
DTEND;TZID=Europe/London:20230806T160000
DTSTAMP:20260424T022618
CREATED:20230608T180303Z
LAST-MODIFIED:20230608T180303Z
UID:6903-1690624800-1691337600@lucindanicholas.co.uk
SUMMARY:Fordingbridge Art Club Summer Exhibition
DESCRIPTION:Fordingbridge Art Club was formed in 1946 by enthusiasts who wished to regularly meet others with the same interest in order to share their experiences\, to pass on techniques\, to help beginners\, and to encourage others.
URL:https://lucindanicholas.co.uk/event/fordingbridge-art-club-summer-exhibition/
LOCATION:Salvation Army Hall\, Roundhill\, Fordingbridge\, Hampshire\, SP6 1AQ\, United Kingdom
CATEGORIES:Exhibitions
ATTACH;FMTTYPE=image/jpeg:https://lucindanicholas.co.uk/wp-content/uploads/2023/06/Hall.jpg
END:VEVENT
END:VCALENDAR