BEGIN:VCALENDAR
VERSION:2.0
PRODID:-//Lucinda Nicholas Art - ECPv6.15.20//NONSGML v1.0//EN
CALSCALE:GREGORIAN
METHOD:PUBLISH
X-WR-CALNAME:Lucinda Nicholas Art
X-ORIGINAL-URL:https://lucindanicholas.co.uk
X-WR-CALDESC:Events for Lucinda Nicholas Art
REFRESH-INTERVAL;VALUE=DURATION:PT1H
X-Robots-Tag:noindex
X-PUBLISHED-TTL:PT1H
BEGIN:VTIMEZONE
TZID:Europe/London
BEGIN:DAYLIGHT
TZOFFSETFROM:+0000
TZOFFSETTO:+0100
TZNAME:BST
DTSTART:20220327T010000
END:DAYLIGHT
BEGIN:STANDARD
TZOFFSETFROM:+0100
TZOFFSETTO:+0000
TZNAME:GMT
DTSTART:20221030T010000
END:STANDARD
BEGIN:DAYLIGHT
TZOFFSETFROM:+0000
TZOFFSETTO:+0100
TZNAME:BST
DTSTART:20230326T010000
END:DAYLIGHT
BEGIN:STANDARD
TZOFFSETFROM:+0100
TZOFFSETTO:+0000
TZNAME:GMT
DTSTART:20231029T010000
END:STANDARD
BEGIN:DAYLIGHT
TZOFFSETFROM:+0000
TZOFFSETTO:+0100
TZNAME:BST
DTSTART:20240331T010000
END:DAYLIGHT
BEGIN:STANDARD
TZOFFSETFROM:+0100
TZOFFSETTO:+0000
TZNAME:GMT
DTSTART:20241027T010000
END:STANDARD
END:VTIMEZONE
BEGIN:VEVENT
DTSTART;VALUE=DATE:20230804
DTEND;VALUE=DATE:20230830
DTSTAMP:20260424T011047
CREATED:20230720T100817Z
LAST-MODIFIED:20230720T100817Z
UID:7033-1691107200-1693353599@lucindanicholas.co.uk
SUMMARY:Salisbury Group of Artists Annual Summer Exhibition
DESCRIPTION:The Salisbury Group of Artists summer exhibition is in at the Salisbury library from 4th August to the 30th August featuring colourful and affordable original art on display and for sale. \nEntry is free and accessible during library opening hours: \nMonday 10am to 7pm\nTuesday 9am to 7pm\nWednesday 9am to 5pm\nThursday 9am to 5pm\nFriday 9am to 7pm\nSaturday 9am to 5pm\nSunday Closed
URL:https://lucindanicholas.co.uk/event/salisbury-group-of-artists-annual-summer-exhibition/
LOCATION:Salisbury Library\, Market Walk\, Salisbury\, Wiltshire\, SP1 1BL\, United Kingdom
CATEGORIES:Exhibitions
ATTACH;FMTTYPE=image/jpeg:https://lucindanicholas.co.uk/wp-content/uploads/2023/07/SGA_featured_SUMMER_2023.jpg
END:VEVENT
BEGIN:VEVENT
DTSTART;TZID=Europe/London:20230819T100000
DTEND;TZID=Europe/London:20230828T160000
DTSTAMP:20260424T011047
CREATED:20230608T214517Z
LAST-MODIFIED:20230719T225407Z
UID:6933-1692439200-1693238400@lucindanicholas.co.uk
SUMMARY:Hampshire Open Studios
DESCRIPTION:For this year’s Open Studios there will be a beautiful selection of mixed media paintings\, quilting\, woodturning\, silver jewellery\, glasswork and metal garden work inspired by nature from artists Lucinda Nicholas\, George Shapland\, Paul Cooper\, Helen Southwell and Jacqueline Seymour. \nBrochures for this annual\, and always wonderful\, event are available at Hale newsagents\, among other places – our venue is number 2 in the brochure.  Can’t wait to see you! \nNote: Closed Monday 21st August
URL:https://lucindanicholas.co.uk/event/hampshire-open-studios-2/
LOCATION:Hackamore House\, Grove Lane\, Redlynch\, SP5 2NR
CATEGORIES:Craft Fairs & Markets,Exhibitions
ATTACH;FMTTYPE=image/jpeg:https://lucindanicholas.co.uk/wp-content/uploads/2022/08/hoc-logo.jpg
END:VEVENT
END:VCALENDAR