BEGIN:VCALENDAR
VERSION:2.0
PRODID:-//Lucinda Nicholas Art - ECPv6.15.20//NONSGML v1.0//EN
CALSCALE:GREGORIAN
METHOD:PUBLISH
X-ORIGINAL-URL:https://lucindanicholas.co.uk
X-WR-CALDESC:Events for Lucinda Nicholas Art
REFRESH-INTERVAL;VALUE=DURATION:PT1H
X-Robots-Tag:noindex
X-PUBLISHED-TTL:PT1H
BEGIN:VTIMEZONE
TZID:Europe/London
BEGIN:DAYLIGHT
TZOFFSETFROM:+0000
TZOFFSETTO:+0100
TZNAME:BST
DTSTART:20230326T010000
END:DAYLIGHT
BEGIN:STANDARD
TZOFFSETFROM:+0100
TZOFFSETTO:+0000
TZNAME:GMT
DTSTART:20231029T010000
END:STANDARD
BEGIN:DAYLIGHT
TZOFFSETFROM:+0000
TZOFFSETTO:+0100
TZNAME:BST
DTSTART:20240331T010000
END:DAYLIGHT
BEGIN:STANDARD
TZOFFSETFROM:+0100
TZOFFSETTO:+0000
TZNAME:GMT
DTSTART:20241027T010000
END:STANDARD
BEGIN:DAYLIGHT
TZOFFSETFROM:+0000
TZOFFSETTO:+0100
TZNAME:BST
DTSTART:20250330T010000
END:DAYLIGHT
BEGIN:STANDARD
TZOFFSETFROM:+0100
TZOFFSETTO:+0000
TZNAME:GMT
DTSTART:20251026T010000
END:STANDARD
END:VTIMEZONE
BEGIN:VEVENT
DTSTART;VALUE=DATE:20240525
DTEND;VALUE=DATE:20240610
DTSTAMP:20260423T112636
CREATED:20240326T215914Z
LAST-MODIFIED:20240524T121929Z
UID:7318-1716595200-1717977599@lucindanicholas.co.uk
SUMMARY:Salisbury Art Trail @ Sofas & Stuff
DESCRIPTION:Salisbury Arts Trail competition\nWin a Lyndhurst chair in Floral Linen Kinscem Obsidian. \nThis competition will cover the Salisbury Art Trail. \nThe competition opens from 10:00am Saturday\, 25th May 2024 to 23:59pm on Sunday\, 9th June 2024. \nHow to enter\nEntry to the competition is free. \nPlease complete the entry form on the reverse of the competition leaflet in full and hand it in to a member of our team\, or post it to us at Sofas & Stuff\, Salisbury showroom\, 7 New Canal\, Salisbury\, Wiltshire SP1 2AA before the closing date. \nEntry to the competition is open to individual residents of the UK aged 18 or over\, except employees of Sofas & Stuff\, their associates\, their families\, or anyone else connected with the competition. \nEntries are limited to one per person. Multiple entries from a single entrant will be removed. \nThe winner will be responsible for ensuring they are able to accept the prize as set out in accordance with these terms and conditions. \nThe winner will be drawn at random on Tuesday\, 11th June 2024. \nThe winner will be notified by email within 7 working days from the closing date. \nThe winner has 7 working days to claim their prize. After this time\, the prize will be deemed unclaimed\, and another winner will be chosen. \nThe winner will be invited to visit the Salisbury showroom to redeem their prize. \nThe prize cannot be exchanged for cash. \nThe prize is valid within 12 months only\, expiring 11th June 2025. \nFree delivery will be included to Mainland UK and Scotland postal addresses only. \nSofas & Stuff reserves the right at its sole discretion to disqualify any entrant it finds to be attempting to undermine the entry process\, the website\, or the legitimate operation of the promotion\, or otherwise fails to comply with the prize draw rules. \nThese terms and conditions shall be governed by the laws of England and subject to the exclusive jurisdiction of the English courts. \nAny personal data that is collected as part of the competition will be processed in accordance with applicable UK data protection legislation. For further information on our privacy policy\, visit Privacy Policy page. \nBy submitting this form\, you consent to allow Sofas & Stuff to store and process the personal information submitted to provide you the content requested.
URL:https://lucindanicholas.co.uk/event/salisbury-art-trail-sofas-stuff/
LOCATION:Sofas & Stuff\, 7 New Canal\, Salisbury\, Wiltshire\, SP1 2AA
CATEGORIES:Exhibitions
ATTACH;FMTTYPE=image/png:https://lucindanicholas.co.uk/wp-content/uploads/2024/03/AT_Logo.png
END:VEVENT
BEGIN:VEVENT
DTSTART;VALUE=DATE:20240525
DTEND;VALUE=DATE:20240610
DTSTAMP:20260423T112636
CREATED:20240326T220407Z
LAST-MODIFIED:20240326T220407Z
UID:7325-1716595200-1717977599@lucindanicholas.co.uk
SUMMARY:Salisbury Art Trail @ 36\, Wordsworth Road
DESCRIPTION:
URL:https://lucindanicholas.co.uk/event/salisbury-art-trail-36-wordsworth-road/
LOCATION:36\, Wordsworth Road\, Salisbury\, Wiltshire\, SP1 3BH
CATEGORIES:Exhibitions
ATTACH;FMTTYPE=image/png:https://lucindanicholas.co.uk/wp-content/uploads/2024/03/AT_Logo.png
END:VEVENT
END:VCALENDAR