BEGIN:VCALENDAR
VERSION:2.0
PRODID:-//Lucinda Nicholas Art - ECPv6.15.20//NONSGML v1.0//EN
CALSCALE:GREGORIAN
METHOD:PUBLISH
X-WR-CALNAME:Lucinda Nicholas Art
X-ORIGINAL-URL:https://lucindanicholas.co.uk
X-WR-CALDESC:Events for Lucinda Nicholas Art
REFRESH-INTERVAL;VALUE=DURATION:PT1H
X-Robots-Tag:noindex
X-PUBLISHED-TTL:PT1H
BEGIN:VTIMEZONE
TZID:Europe/London
BEGIN:DAYLIGHT
TZOFFSETFROM:+0000
TZOFFSETTO:+0100
TZNAME:BST
DTSTART:20230326T010000
END:DAYLIGHT
BEGIN:STANDARD
TZOFFSETFROM:+0100
TZOFFSETTO:+0000
TZNAME:GMT
DTSTART:20231029T010000
END:STANDARD
BEGIN:DAYLIGHT
TZOFFSETFROM:+0000
TZOFFSETTO:+0100
TZNAME:BST
DTSTART:20240331T010000
END:DAYLIGHT
BEGIN:STANDARD
TZOFFSETFROM:+0100
TZOFFSETTO:+0000
TZNAME:GMT
DTSTART:20241027T010000
END:STANDARD
BEGIN:DAYLIGHT
TZOFFSETFROM:+0000
TZOFFSETTO:+0100
TZNAME:BST
DTSTART:20250330T010000
END:DAYLIGHT
BEGIN:STANDARD
TZOFFSETFROM:+0100
TZOFFSETTO:+0000
TZNAME:GMT
DTSTART:20251026T010000
END:STANDARD
END:VTIMEZONE
BEGIN:VEVENT
DTSTART;TZID=Europe/London:20240322T080000
DTEND;TZID=Europe/London:20240510T183000
DTSTAMP:20260423T130340
CREATED:20240326T215225Z
LAST-MODIFIED:20240326T215225Z
UID:7304-1711094400-1715365800@lucindanicholas.co.uk
SUMMARY:Exhibition @ Salisbury Medical Practice
DESCRIPTION:Medical_07a                                                                                                                                                                                                              Medical_06                                                                                                                                                                                                              Medical_05                                                                                                                                                                                                              Medical_04                                                                                                                                                                                                              Medical_03                                                                                                                                                                                                              Medical_01                                                                                                                                                                                                              Medical_02
URL:https://lucindanicholas.co.uk/event/exhibition-salisbury-medical-practice/
LOCATION:Salisbury Medical Practice\, Fisherton House\, Fountain Way\, Salisbury\, Wiltshire\, SP2 7FD
CATEGORIES:Exhibitions
ATTACH;FMTTYPE=image/jpeg:https://lucindanicholas.co.uk/wp-content/uploads/2024/03/Medical_02.jpg
END:VEVENT
BEGIN:VEVENT
DTSTART;TZID=Europe/London:20240420T090000
DTEND;TZID=Europe/London:20240420T120000
DTSTAMP:20260423T130340
CREATED:20240326T235921Z
LAST-MODIFIED:20240326T235921Z
UID:7336-1713603600-1713614400@lucindanicholas.co.uk
SUMMARY:Hale Market
DESCRIPTION:Hale Market has returned!  Coffee\, cakes and bacon rolls in the village hall and maybe some festive treats too! \nFind me there on the third Saturday of every month either on Hale Green or in Hale Hall between 9am and 12pm
URL:https://lucindanicholas.co.uk/event/hale-market-14/
LOCATION:Hale Village Hall\, Hatchet Green\, Hale\, Hampshire\, SP6 2NE
CATEGORIES:Craft Fairs & Markets
ATTACH;FMTTYPE=image/png:https://lucindanicholas.co.uk/wp-content/uploads/2021/10/hale-market.png
END:VEVENT
BEGIN:VEVENT
DTSTART;TZID=Europe/London:20240427T100000
DTEND;TZID=Europe/London:20240427T140000
DTSTAMP:20260423T130340
CREATED:20240220T001948Z
LAST-MODIFIED:20240220T002324Z
UID:7288-1714212000-1714226400@lucindanicholas.co.uk
SUMMARY:Lino Cutting workshop
DESCRIPTION:Come along and learn about Lino cutting. From 10-2 so bring along snacks/lunch. £45.00 for the session – and you get to take home your linoleum and gouger (that you use for cutting the Lino).\nWear clothes that are not special to you; an apron; and any ideas that you have for what you’d like to achieve… and enthusiasm too! \nCall me on 07876551622 to book your place. Limited to 3-4 people per session.
URL:https://lucindanicholas.co.uk/event/lino-cutting-workshop/
LOCATION:Hackamore House\, Grove Lane\, Redlynch\, SP5 2NR
CATEGORIES:Classes
ATTACH;FMTTYPE=image/jpeg:https://lucindanicholas.co.uk/wp-content/uploads/2024/02/lino3.jpg
END:VEVENT
END:VCALENDAR